BEGIN:VCALENDAR
VERSION:2.0
PRODID:-//Minnesota Government Engineering Council - ECPv6.15.20//NONSGML v1.0//EN
CALSCALE:GREGORIAN
METHOD:PUBLISH
X-WR-CALNAME:Minnesota Government Engineering Council
X-ORIGINAL-URL:https://www.mgec.org
X-WR-CALDESC:Events for Minnesota Government Engineering Council
REFRESH-INTERVAL;VALUE=DURATION:PT1H
X-Robots-Tag:noindex
X-PUBLISHED-TTL:PT1H
BEGIN:VTIMEZONE
TZID:America/Chicago
BEGIN:DAYLIGHT
TZOFFSETFROM:-0600
TZOFFSETTO:-0500
TZNAME:CDT
DTSTART:20190310T080000
END:DAYLIGHT
BEGIN:STANDARD
TZOFFSETFROM:-0500
TZOFFSETTO:-0600
TZNAME:CST
DTSTART:20191103T070000
END:STANDARD
BEGIN:DAYLIGHT
TZOFFSETFROM:-0600
TZOFFSETTO:-0500
TZNAME:CDT
DTSTART:20200308T080000
END:DAYLIGHT
BEGIN:STANDARD
TZOFFSETFROM:-0500
TZOFFSETTO:-0600
TZNAME:CST
DTSTART:20201101T070000
END:STANDARD
BEGIN:DAYLIGHT
TZOFFSETFROM:-0600
TZOFFSETTO:-0500
TZNAME:CDT
DTSTART:20210314T080000
END:DAYLIGHT
BEGIN:STANDARD
TZOFFSETFROM:-0500
TZOFFSETTO:-0600
TZNAME:CST
DTSTART:20211107T070000
END:STANDARD
BEGIN:DAYLIGHT
TZOFFSETFROM:-0600
TZOFFSETTO:-0500
TZNAME:CDT
DTSTART:20220313T080000
END:DAYLIGHT
BEGIN:STANDARD
TZOFFSETFROM:-0500
TZOFFSETTO:-0600
TZNAME:CST
DTSTART:20221106T070000
END:STANDARD
BEGIN:DAYLIGHT
TZOFFSETFROM:-0600
TZOFFSETTO:-0500
TZNAME:CDT
DTSTART:20230312T080000
END:DAYLIGHT
BEGIN:STANDARD
TZOFFSETFROM:-0500
TZOFFSETTO:-0600
TZNAME:CST
DTSTART:20231105T070000
END:STANDARD
END:VTIMEZONE
BEGIN:VEVENT
DTSTART;TZID=America/Chicago:20220929T173000
DTEND;TZID=America/Chicago:20220929T190000
DTSTAMP:20260424T064725
CREATED:20220106T150224Z
LAST-MODIFIED:20220914T201737Z
UID:2899-1664472600-1664478000@www.mgec.org
SUMMARY:MGEC Annual Meeting
DESCRIPTION:MGEC Annual Meeting \nInterested members are able to Join the Meeting on Teams. \n\n\nOr call in (audio only) \n\n\n+1 469-848-0085\,\,766968059#   United States\, Dallas \n\n\nPhone Conference ID: 766 968 059# \nNext month’s Board meeting will be on October 24\, 2022 from 3:30-6:30 pm.
URL:https://www.mgec.org/event/mgec-executive-board-meeting-34/
ATTACH;FMTTYPE=image/jpeg:https://www.mgec.org/wp-content/uploads/2019/08/gavel.jpg
END:VEVENT
BEGIN:VEVENT
DTSTART;TZID=America/Chicago:20220926T153000
DTEND;TZID=America/Chicago:20220926T183000
DTSTAMP:20260424T064725
CREATED:20220901T195135Z
LAST-MODIFIED:20220901T195135Z
UID:3280-1664206200-1664217000@www.mgec.org
SUMMARY:MGEC Executive Board Meeting
DESCRIPTION:Monthly Executive Board Meeting\, for Executive Officers and Directors. \n\nInterested members are able to join the meeting on Teams by clicking the following link: https://tinyurl.com/MGEC2022. \n\n\n\nIn order to allow for effective MGEC Executive Board Meetings\, MGEC has the following guidelines for those who participate in Executive Board meetings as a non-Board member. \n\n\nNon-Board member meeting participants are asked to identify yourself when you join the meeting.\nNon-Board members are asked to remain muted at all times unless you are asked to speak by the President or Executive Director.\nRequests to speak should be made to the President or Executive Director\, preferably before the meeting.\nParticipants who do not follow these guidelines may be removed from the meeting at the discretion of the President and/or Executive Director.\n\n\n\n\n\nFeel free to contact the MGEC President at mgecpresident@mgec.org or MGEC staff at mgec@mgec.org \n\nNext month’s meeting will be on October 24\, 2022 from 3:30-6:30 pm.
URL:https://www.mgec.org/event/mgec-executive-board-meeting-38/
ATTACH;FMTTYPE=image/jpeg:https://www.mgec.org/wp-content/uploads/2019/08/gavel.jpg
END:VEVENT
BEGIN:VEVENT
DTSTART;TZID=America/Chicago:20220822T153000
DTEND;TZID=America/Chicago:20220822T183000
DTSTAMP:20260424T064725
CREATED:20220106T150034Z
LAST-MODIFIED:20220120T202527Z
UID:2897-1661182200-1661193000@www.mgec.org
SUMMARY:MGEC Executive Board Meeting
DESCRIPTION:Monthly Executive Board Meeting\, for Executive Officers and Directors. \n\nInterested members are able to join the meeting on Teams by clicking the following link: https://tinyurl.com/MGEC2022. \n\n\n\nIn order to allow for effective MGEC Executive Board Meetings\, MGEC has the following guidelines for those who participate in Executive Board meetings as a non-Board member. \n\n\nNon-Board member meeting participants are asked to identify yourself when you join the meeting.\nNon-Board members are asked to remain muted at all times unless you are asked to speak by the President or Executive Director.\nRequests to speak should be made to the President or Executive Director\, preferably before the meeting.\nParticipants who do not follow these guidelines may be removed from the meeting at the discretion of the President and/or Executive Director.\n\n\n\n\n\nFeel free to contact the MGEC President at mgecpresident@mgec.org or MGEC staff at mgec@mgec.org \n\nNext month’s meeting will be on September 26\, 2022 from 3:30-6:30 pm.
URL:https://www.mgec.org/event/mgec-executive-board-meeting-33/
ATTACH;FMTTYPE=image/jpeg:https://www.mgec.org/wp-content/uploads/2019/08/gavel.jpg
END:VEVENT
BEGIN:VEVENT
DTSTART;TZID=America/Chicago:20220725T153000
DTEND;TZID=America/Chicago:20220725T183000
DTSTAMP:20260424T064725
CREATED:20220106T145831Z
LAST-MODIFIED:20220120T202450Z
UID:2895-1658763000-1658773800@www.mgec.org
SUMMARY:MGEC Executive Board Meeting
DESCRIPTION:Monthly Executive Board Meeting\, for Executive Officers and Directors. \n\nInterested members are able to join the meeting on Teams by clicking the following link: https://tinyurl.com/MGEC2022. \n\n\n\nIn order to allow for effective MGEC Executive Board Meetings\, MGEC has the following guidelines for those who participate in Executive Board meetings as a non-Board member. \n\n\nNon-Board member meeting participants are asked to identify yourself when you join the meeting.\nNon-Board members are asked to remain muted at all times unless you are asked to speak by the President or Executive Director.\nRequests to speak should be made to the President or Executive Director\, preferably before the meeting.\nParticipants who do not follow these guidelines may be removed from the meeting at the discretion of the President and/or Executive Director.\n\n\n\n\n\nFeel free to contact the MGEC President at mgecpresident@mgec.org or MGEC staff at mgec@mgec.org \n\nNext month’s meeting will be on August 22\, 2022 from 3:30-6:30 pm.
URL:https://www.mgec.org/event/mgec-executive-board-meeting-32/
ATTACH;FMTTYPE=image/jpeg:https://www.mgec.org/wp-content/uploads/2019/08/gavel.jpg
END:VEVENT
BEGIN:VEVENT
DTSTART;TZID=America/Chicago:20220627T153000
DTEND;TZID=America/Chicago:20220627T183000
DTSTAMP:20260424T064725
CREATED:20220106T145621Z
LAST-MODIFIED:20220120T202424Z
UID:2893-1656343800-1656354600@www.mgec.org
SUMMARY:MGEC Executive Board Meeting
DESCRIPTION:Monthly Executive Board Meeting\, for Executive Officers and Directors. \n\nInterested members are able to join the meeting on Teams by clicking the following link: https://tinyurl.com/MGEC2022. \n\n\n\nIn order to allow for effective MGEC Executive Board Meetings\, MGEC has the following guidelines for those who participate in Executive Board meetings as a non-Board member. \n\n\nNon-Board member meeting participants are asked to identify yourself when you join the meeting.\nNon-Board members are asked to remain muted at all times unless you are asked to speak by the President or Executive Director.\nRequests to speak should be made to the President or Executive Director\, preferably before the meeting.\nParticipants who do not follow these guidelines may be removed from the meeting at the discretion of the President and/or Executive Director.\n\n\n\n\n\nFeel free to contact the MGEC President at mgecpresident@mgec.org or MGEC staff at mgec@mgec.org \n\nNext month’s meeting will be on July 25\, 2022 from 3:30-6:30 pm.
URL:https://www.mgec.org/event/mgec-executive-board-meeting-31/
ATTACH;FMTTYPE=image/jpeg:https://www.mgec.org/wp-content/uploads/2019/08/gavel.jpg
END:VEVENT
BEGIN:VEVENT
DTSTART;TZID=America/Chicago:20220523T153000
DTEND;TZID=America/Chicago:20220523T183000
DTSTAMP:20260424T064725
CREATED:20220106T145412Z
LAST-MODIFIED:20220120T202350Z
UID:2891-1653319800-1653330600@www.mgec.org
SUMMARY:MGEC Executive Board Meeting
DESCRIPTION:Monthly Executive Board Meeting\, for Executive Officers and Directors. \n\nInterested members are able to join the meeting on Teams by clicking the following link: https://tinyurl.com/MGEC2022. \n\n\n\nIn order to allow for effective MGEC Executive Board Meetings\, MGEC has the following guidelines for those who participate in Executive Board meetings as a non-Board member. \n\n\nNon-Board member meeting participants are asked to identify yourself when you join the meeting.\nNon-Board members are asked to remain muted at all times unless you are asked to speak by the President or Executive Director.\nRequests to speak should be made to the President or Executive Director\, preferably before the meeting.\nParticipants who do not follow these guidelines may be removed from the meeting at the discretion of the President and/or Executive Director.\n\n\n\n\n\nFeel free to contact the MGEC President at mgecpresident@mgec.org or MGEC staff at mgec@mgec.org \n\nNext month’s meeting will be on June 27\, 2022 from 3:30-6:30 pm.
URL:https://www.mgec.org/event/mgec-executive-board-meeting-30/
ATTACH;FMTTYPE=image/jpeg:https://www.mgec.org/wp-content/uploads/2019/08/gavel.jpg
END:VEVENT
BEGIN:VEVENT
DTSTART;TZID=America/Chicago:20220425T153000
DTEND;TZID=America/Chicago:20220425T183000
DTSTAMP:20260424T064725
CREATED:20220106T145159Z
LAST-MODIFIED:20220120T202314Z
UID:2888-1650900600-1650911400@www.mgec.org
SUMMARY:MGEC Executive Board Meeting
DESCRIPTION:Monthly Executive Board Meeting\, for Executive Officers and Directors. \n\nInterested members are able to join the meeting on Teams by clicking the following link: https://tinyurl.com/MGEC2022. \n\n\n\nIn order to allow for effective MGEC Executive Board Meetings\, MGEC has the following guidelines for those who participate in Executive Board meetings as a non-Board member. \n\n\nNon-Board member meeting participants are asked to identify yourself when you join the meeting.\nNon-Board members are asked to remain muted at all times unless you are asked to speak by the President or Executive Director.\nRequests to speak should be made to the President or Executive Director\, preferably before the meeting.\nParticipants who do not follow these guidelines may be removed from the meeting at the discretion of the President and/or Executive Director.\n\n\n\n\n\nFeel free to contact the MGEC President at mgecpresident@mgec.org or MGEC staff at mgec@mgec.org \n\nNext month’s meeting will be on May 23\, 2022 from 3:30-6:30 pm.
URL:https://www.mgec.org/event/mgec-executive-board-meeting-29/
ATTACH;FMTTYPE=image/jpeg:https://www.mgec.org/wp-content/uploads/2019/08/gavel.jpg
END:VEVENT
BEGIN:VEVENT
DTSTART;TZID=America/Chicago:20220418T120000
DTEND;TZID=America/Chicago:20220418T140000
DTSTAMP:20260424T064725
CREATED:20211112T030836Z
LAST-MODIFIED:20220406T151926Z
UID:2691-1650283200-1650290400@www.mgec.org
SUMMARY:Ethics Seminar
DESCRIPTION:Justin Weinberg will be presenting another ethics seminar April 18th\, from Noon to 2:00pm. \nRegister Today
URL:https://www.mgec.org/event/ethics-seminar/
ATTACH;FMTTYPE=image/jpeg:https://www.mgec.org/wp-content/uploads/2020/03/Weinberg-Justin-Briggs-and-Morgan-DSC_3911.jpg
END:VEVENT
BEGIN:VEVENT
DTSTART;TZID=America/Chicago:20220328T153000
DTEND;TZID=America/Chicago:20220328T183000
DTSTAMP:20260424T064725
CREATED:20211222T001451Z
LAST-MODIFIED:20220120T202241Z
UID:2756-1648481400-1648492200@www.mgec.org
SUMMARY:MGEC Executive Board Meeting
DESCRIPTION:Monthly Executive Board Meeting\, for Executive Officers and Directors. \n\nInterested members are able to join the meeting on Teams by clicking the following link: https://tinyurl.com/MGEC2022. \n\n\n\nIn order to allow for effective MGEC Executive Board Meetings\, MGEC has the following guidelines for those who participate in Executive Board meetings as a non-Board member. \n\n\nNon-Board member meeting participants are asked to identify yourself when you join the meeting.\nNon-Board members are asked to remain muted at all times unless you are asked to speak by the President or Executive Director.\nRequests to speak should be made to the President or Executive Director\, preferably before the meeting.\nParticipants who do not follow these guidelines may be removed from the meeting at the discretion of the President and/or Executive Director.\n\n\n\n\n\nFeel free to contact the MGEC President at mgecpresident@mgec.org or MGEC staff at mgec@mgec.org \n\nNext month’s meeting will be on April 25\, 2022 from 3:30-6:30 pm.
URL:https://www.mgec.org/event/mgec-executive-board-meeting-28/
ATTACH;FMTTYPE=image/jpeg:https://www.mgec.org/wp-content/uploads/2019/08/gavel.jpg
END:VEVENT
BEGIN:VEVENT
DTSTART;TZID=America/Chicago:20220228T153000
DTEND;TZID=America/Chicago:20220228T183000
DTSTAMP:20260424T064725
CREATED:20210923T044251Z
LAST-MODIFIED:20220120T202201Z
UID:2654-1646062200-1646073000@www.mgec.org
SUMMARY:MGEC Executive Board Meeting
DESCRIPTION:Monthly Executive Board Meeting\, for Executive Officers and Directors. \n\nInterested members are able to join the meeting on Teams by clicking the following link: https://tinyurl.com/MGEC2022. \n\n\n\nIn order to allow for effective MGEC Executive Board Meetings\, MGEC has the following guidelines for those who participate in Executive Board meetings as a non-Board member. \n\n\nNon-Board member meeting participants are asked to identify yourself when you join the meeting.\nNon-Board members are asked to remain muted at all times unless you are asked to speak by the President or Executive Director.\nRequests to speak should be made to the President or Executive Director\, preferably before the meeting.\nParticipants who do not follow these guidelines may be removed from the meeting at the discretion of the President and/or Executive Director.\n\n\n\n\n\nFeel free to contact the MGEC President at mgecpresident@mgec.org or MGEC staff at mgec@mgec.org \n\nNext month’s meeting will be on March 28\, 2022 from 3:30-6:30 pm.
URL:https://www.mgec.org/event/mgec-executive-board-meeting-27/
ATTACH;FMTTYPE=image/jpeg:https://www.mgec.org/wp-content/uploads/2019/08/gavel.jpg
END:VEVENT
BEGIN:VEVENT
DTSTART;TZID=America/Chicago:20220214T120000
DTEND;TZID=America/Chicago:20220214T130000
DTSTAMP:20260424T064725
CREATED:20220210T212847Z
LAST-MODIFIED:20220210T213356Z
UID:2982-1644840000-1644843600@www.mgec.org
SUMMARY:Meet with MGEC
DESCRIPTION:We value meeting with our members! In 2021\, MGEC members had an opportunity to participate in virtual worksite meetings with MGEC President Forrest Hasty. For 2022\, MGEC President Corey Mathisen has announced the first quarterly “Meet with MGEC” virtual meeting. We will provide updates on recent MGEC activities\, share news from communication with the employer\, and listen to questions\, concerns\, and comments from members. Because the meetings will be open to all MGEC members\, participants will have an opportunity to hear what’s going on in other agencies. The first meeting will be held February 14\, 2022 from Noon to 1:00 p.m. Join Virtually
URL:https://www.mgec.org/event/meet-with-mgec/
ATTACH;FMTTYPE=image/jpeg:https://www.mgec.org/wp-content/uploads/2022/02/Meet-with-MGEC-2.jpeg
END:VEVENT
BEGIN:VEVENT
DTSTART;TZID=America/Chicago:20220124T130000
DTEND;TZID=America/Chicago:20220124T173000
DTSTAMP:20260424T064725
CREATED:20210923T043944Z
LAST-MODIFIED:20220119T201159Z
UID:2652-1643029200-1643045400@www.mgec.org
SUMMARY:MGEC Board Training
DESCRIPTION:MGEC Board meeting\, will begin with training for the new board followed by a short board meeting. \n\nInterested members are able to join the meeting on Teams by clicking the following link: https://tinyurl.com/MGEC2022. \n\n\n\nIn order to allow for effective MGEC Executive Board Meetings\, MGEC has the following guidelines for those who participate in Executive Board meetings as a non-Board member. \n\n\nNon-Board member meeting participants are asked to identify yourself when you join the meeting.\nNon-Board members are asked to remain muted at all times unless you are asked to speak by the President or Executive Director.\nRequests to speak should be made to the President or Executive Director\, preferably before the meeting.\nParticipants who do not follow these guidelines may be removed from the meeting at the discretion of the President and/or Executive Director.\n\n\n\n\n\nFeel free to contact the MGEC President at mgecpresident@mgec.org or MGEC staff at mgec@mgec.org \n\nNext month’s meeting will be on February 28\, 2022 from 3:30-6:30 pm.
URL:https://www.mgec.org/event/mgec-executive-board-meeting-26/
ATTACH;FMTTYPE=image/jpeg:https://www.mgec.org/wp-content/uploads/2019/08/gavel.jpg
END:VEVENT
BEGIN:VEVENT
DTSTART;TZID=America/Chicago:20211220T153000
DTEND;TZID=America/Chicago:20211220T183000
DTSTAMP:20260424T064725
CREATED:20211021T043731Z
LAST-MODIFIED:20211102T015150Z
UID:2650-1640014200-1640025000@www.mgec.org
SUMMARY:MGEC Executive Board Meeting
DESCRIPTION:Monthly Executive Board Meeting\, for Executive Officers and Directors. \nNext month’s meeting will be on January 24\, 2022 from 3:30-6:30 pm.
URL:https://www.mgec.org/event/mgec-executive-board-meeting-25/
ATTACH;FMTTYPE=image/jpeg:https://www.mgec.org/wp-content/uploads/2019/08/gavel.jpg
END:VEVENT
BEGIN:VEVENT
DTSTART;TZID=America/Chicago:20211122T153000
DTEND;TZID=America/Chicago:20211122T183000
DTSTAMP:20260424T064725
CREATED:20210923T043610Z
LAST-MODIFIED:20210923T043610Z
UID:2648-1637595000-1637605800@www.mgec.org
SUMMARY:MGEC Executive Board Meeting
DESCRIPTION:Monthly Executive Board Meeting\, for Executive Officers and Directors. \nNext month’s meeting will be on December 27\, 2021\, from 3:30-6:30 pm.
URL:https://www.mgec.org/event/mgec-executive-board-meeting-24/
ATTACH;FMTTYPE=image/jpeg:https://www.mgec.org/wp-content/uploads/2019/08/gavel.jpg
END:VEVENT
BEGIN:VEVENT
DTSTART;TZID=America/Chicago:20211025T153000
DTEND;TZID=America/Chicago:20211025T183000
DTSTAMP:20260424T064725
CREATED:20210923T043419Z
LAST-MODIFIED:20210923T043419Z
UID:2646-1635175800-1635186600@www.mgec.org
SUMMARY:MGEC Executive Board Meeting
DESCRIPTION:Monthly Executive Board Meeting\, for Executive Officers and Directors. \nNext month’s meeting will be on November 22\, 2021\, from 3:30-6:30 pm.
URL:https://www.mgec.org/event/mgec-executive-board-meeting-23/
ATTACH;FMTTYPE=image/jpeg:https://www.mgec.org/wp-content/uploads/2019/08/gavel.jpg
END:VEVENT
BEGIN:VEVENT
DTSTART;TZID=America/Chicago:20210927T153000
DTEND;TZID=America/Chicago:20210927T183000
DTSTAMP:20260424T064725
CREATED:20210902T043142Z
LAST-MODIFIED:20210902T043142Z
UID:2634-1632756600-1632767400@www.mgec.org
SUMMARY:MGEC Executive Board Meeting
DESCRIPTION:Monthly Executive Board Meeting\, for Executive Officers and Directors. \nNext month’s meeting will be on October 25 2021\, from 3:30-6:30 pm.
URL:https://www.mgec.org/event/mgec-executive-board-meeting-22/
ATTACH;FMTTYPE=image/jpeg:https://www.mgec.org/wp-content/uploads/2019/08/gavel.jpg
END:VEVENT
BEGIN:VEVENT
DTSTART;TZID=America/Chicago:20210913T120000
DTEND;TZID=America/Chicago:20210913T170000
DTSTAMP:20260424T064725
CREATED:20210609T021558Z
LAST-MODIFIED:20210609T021558Z
UID:2583-1631534400-1631552400@www.mgec.org
SUMMARY:Annual MGEC Golf Event
DESCRIPTION:The Annual MGEC Golf event is scheduled for September 13th with a 12 pm tee time at Oak Marsh Golf Course. \nThe fee with cart is $61.00 ($43.49 without cart). Register by calling 651-730-8886 or online at www.oakmarshgolf.com \nThis is a golf only event. MGEC is not hosting a dinner after the event. \nIf you attend\, please feel free to take pictures and send to mgec@mgec.org.
URL:https://www.mgec.org/event/annual-mgec-golf-event/
ATTACH;FMTTYPE=image/jpeg:https://www.mgec.org/wp-content/uploads/2019/06/2019-Annual-Meeting-1.jpg
END:VEVENT
BEGIN:VEVENT
DTSTART;TZID=America/Chicago:20210830T160000
DTEND;TZID=America/Chicago:20210830T170000
DTSTAMP:20260424T064725
CREATED:20210408T213441Z
LAST-MODIFIED:20210609T021922Z
UID:2529-1630339200-1630342800@www.mgec.org
SUMMARY:Annual Member Meeting (online only) 4-5 pm
DESCRIPTION:*******Rescheduled Date*********** \nPlease join us on August 30th for the Annual Member Meeting.  This will be a virtual meeting.
URL:https://www.mgec.org/event/annual-member-meeting-online-only/
ATTACH;FMTTYPE=image/jpeg:https://www.mgec.org/wp-content/uploads/2019/07/Engineering-logo-wo-tagline-3.jpg
END:VEVENT
BEGIN:VEVENT
DTSTART;TZID=America/Chicago:20210823T153000
DTEND;TZID=America/Chicago:20210823T183000
DTSTAMP:20260424T064725
CREATED:20210430T215940Z
LAST-MODIFIED:20210430T215940Z
UID:2554-1629732600-1629743400@www.mgec.org
SUMMARY:MGEC Executive Board Meeting
DESCRIPTION:Monthly Executive Board Meeting\, for Executive Officers and Directors. \nNext month’s meeting will be on September 27\, 2021\, from 3:30-6:30 pm.
URL:https://www.mgec.org/event/mgec-executive-board-meeting-21/
ATTACH;FMTTYPE=image/jpeg:https://www.mgec.org/wp-content/uploads/2019/08/gavel.jpg
END:VEVENT
BEGIN:VEVENT
DTSTART;TZID=America/Chicago:20210726T153000
DTEND;TZID=America/Chicago:20210726T183000
DTSTAMP:20260424T064725
CREATED:20210430T215758Z
LAST-MODIFIED:20210430T215758Z
UID:2552-1627313400-1627324200@www.mgec.org
SUMMARY:MGEC Executive Board Meeting
DESCRIPTION:Monthly Executive Board Meeting\, for Executive Officers and Directors. \nNext month’s meeting will be on August 23\, 2021\, from 3:30-6:30 pm.
URL:https://www.mgec.org/event/mgec-executive-board-meeting-20/
ATTACH;FMTTYPE=image/jpeg:https://www.mgec.org/wp-content/uploads/2019/08/gavel.jpg
END:VEVENT
BEGIN:VEVENT
DTSTART;TZID=America/Chicago:20210628T153000
DTEND;TZID=America/Chicago:20210628T183000
DTSTAMP:20260424T064725
CREATED:20210430T215631Z
LAST-MODIFIED:20210430T215631Z
UID:2550-1624894200-1624905000@www.mgec.org
SUMMARY:MGEC Executive Board Meeting
DESCRIPTION:Monthly Executive Board Meeting\, for Executive Officers and Directors. \nNext month’s meeting will be on July 26\, 2021\, from 3:30-6:30 pm.
URL:https://www.mgec.org/event/mgec-executive-board-meeting-19/
ATTACH;FMTTYPE=image/jpeg:https://www.mgec.org/wp-content/uploads/2019/08/gavel.jpg
END:VEVENT
BEGIN:VEVENT
DTSTART;TZID=America/Chicago:20210426T153000
DTEND;TZID=America/Chicago:20210426T183000
DTSTAMP:20260424T064725
CREATED:20210216T174242Z
LAST-MODIFIED:20210216T174242Z
UID:2484-1619451000-1619461800@www.mgec.org
SUMMARY:MGEC Executive Board Meeting
DESCRIPTION:Monthly Executive Board Meeting\, for Executive Officers and Directors. \nNext month’s meeting will be on May 24\, 2021\, from 3:30-6:30 pm.
URL:https://www.mgec.org/event/mgec-executive-board-meeting-18/
ATTACH;FMTTYPE=image/jpeg:https://www.mgec.org/wp-content/uploads/2019/08/gavel.jpg
END:VEVENT
BEGIN:VEVENT
DTSTART;TZID=America/Chicago:20210329T153000
DTEND;TZID=America/Chicago:20210329T183000
DTSTAMP:20260424T064725
CREATED:20210216T174109Z
LAST-MODIFIED:20210225T193426Z
UID:2482-1617031800-1617042600@www.mgec.org
SUMMARY:MGEC Executive Board Meeting
DESCRIPTION:Monthly Executive Board Meeting\, for Executive Officers and Directors. \nNext month’s meeting will be on April 26\, 2021\, from 3:30-6:30 pm.
URL:https://www.mgec.org/event/mgec-executive-board-meeting-17/
ATTACH;FMTTYPE=image/jpeg:https://www.mgec.org/wp-content/uploads/2019/08/gavel.jpg
END:VEVENT
BEGIN:VEVENT
DTSTART;TZID=America/Chicago:20210222T153000
DTEND;TZID=America/Chicago:20210222T183000
DTSTAMP:20260424T064725
CREATED:20210216T173818Z
LAST-MODIFIED:20210216T173818Z
UID:2479-1614007800-1614018600@www.mgec.org
SUMMARY:MGEC Executive Board Meeting
DESCRIPTION:Monthly Executive Board Meeting\, for Executive Officers and Directors. Next month’s meeting will be on March 22\, 2021\, from 3:30-6:30 pm.
URL:https://www.mgec.org/event/mgec-executive-board-meeting-16/
ATTACH;FMTTYPE=image/jpeg:https://www.mgec.org/wp-content/uploads/2019/08/gavel.jpg
END:VEVENT
BEGIN:VEVENT
DTSTART;TZID=America/Chicago:20210217T120000
DTEND;TZID=America/Chicago:20210217T140000
DTSTAMP:20260424T064725
CREATED:20201211T232352Z
LAST-MODIFIED:20210216T171716Z
UID:2413-1613563200-1613570400@www.mgec.org
SUMMARY:Ethics Seminar - REGISTER NOW!
DESCRIPTION:MGEC will be providing an ethics seminar February 17th from 12-2 pm.  The instructor will be Justin Weinberg.  This will be an online only event. \n  \n REGISTER
URL:https://www.mgec.org/event/ethics-seminar-save-the-date/
CATEGORIES:Ethics
ATTACH;FMTTYPE=image/jpeg:https://www.mgec.org/wp-content/uploads/2020/01/IMG_3361.jpg
END:VEVENT
BEGIN:VEVENT
DTSTART;TZID=America/Chicago:20210125T153000
DTEND;TZID=America/Chicago:20210125T183000
DTSTAMP:20260424T064725
CREATED:20201211T231738Z
LAST-MODIFIED:20201211T231810Z
UID:2409-1611588600-1611599400@www.mgec.org
SUMMARY:MGEC Executive Board Meeting
DESCRIPTION:Monthly Executive Board Meeting\, for Executive Officers and Directors. Next month’s meeting will be February 22\, 2020 from 3:30-6:30 pm.
URL:https://www.mgec.org/event/mgec-executive-board-meeting-15/
ATTACH;FMTTYPE=image/jpeg:https://www.mgec.org/wp-content/uploads/2019/08/gavel.jpg
END:VEVENT
BEGIN:VEVENT
DTSTART;TZID=America/Chicago:20201214T153000
DTEND;TZID=America/Chicago:20201214T183000
DTSTAMP:20260424T064725
CREATED:20201027T220133Z
LAST-MODIFIED:20201027T220133Z
UID:2361-1607959800-1607970600@www.mgec.org
SUMMARY:MGEC Executive Board Meeting
DESCRIPTION:Monthly Executive Board Meeting\, for Executive Officers and Directors. Next month’s meeting will be January 25\, 2020 from 3:30-6:30 pm.
URL:https://www.mgec.org/event/mgec-executive-board-meeting-14/
ATTACH;FMTTYPE=image/jpeg:https://www.mgec.org/wp-content/uploads/2019/08/gavel.jpg
END:VEVENT
BEGIN:VEVENT
DTSTART;TZID=America/Chicago:20201202T120000
DTEND;TZID=America/Chicago:20201202T130000
DTSTAMP:20260424T064725
CREATED:20201117T234816Z
LAST-MODIFIED:20210216T171742Z
UID:2367-1606910400-1606914000@www.mgec.org
SUMMARY:D1 Member meeting virtual
DESCRIPTION:If you are in D1 and did not receive the invite\, please reach out to Kari . \nJoin us for an online member update meeting.  Please bring any questions that you have about MGEC.
URL:https://www.mgec.org/event/d1-member-meeting-virtual/
CATEGORIES:Worksite Meeting
ATTACH;FMTTYPE=image/png:https://www.mgec.org/wp-content/uploads/2019/07/MGEC-logonametagline.png
END:VEVENT
BEGIN:VEVENT
DTSTART;TZID=America/Chicago:20201118T120000
DTEND;TZID=America/Chicago:20201118T130000
DTSTAMP:20260424T064725
CREATED:20201117T234633Z
LAST-MODIFIED:20210216T171801Z
UID:2365-1605700800-1605704400@www.mgec.org
SUMMARY:D3 Member meeting Virtual
DESCRIPTION:If you are in D3 and did not receive the invite\, please reach out to Kari . \nJoin us for an online member update meeting.  Please bring any questions that you have about MGEC.
URL:https://www.mgec.org/event/d3-member-meeting-virtual/
CATEGORIES:Worksite Meeting
ATTACH;FMTTYPE=image/png:https://www.mgec.org/wp-content/uploads/2019/07/MGEC-logonametagline.png
END:VEVENT
BEGIN:VEVENT
DTSTART;TZID=America/Chicago:20201116T153000
DTEND;TZID=America/Chicago:20201116T183000
DTSTAMP:20260424T064725
CREATED:20201002T193752Z
LAST-MODIFIED:20201027T220241Z
UID:2326-1605540600-1605551400@www.mgec.org
SUMMARY:MGEC Executive Board Meeting
DESCRIPTION:Monthly Executive Board Meeting\, for Executive Officers and Directors. Next month’s meeting will be December 14\, 2020 from 3:30-6:30 pm.
URL:https://www.mgec.org/event/mgec-executive-board-meeting-12/
ATTACH;FMTTYPE=image/jpeg:https://www.mgec.org/wp-content/uploads/2019/08/gavel.jpg
END:VEVENT
END:VCALENDAR